BEGIN:VCALENDAR
VERSION:2.0
PRODID:-//AMLA - American Mutual Life Association - ECPv5.16.0//NONSGML v1.0//EN
CALSCALE:GREGORIAN
METHOD:PUBLISH
X-WR-CALNAME:AMLA - American Mutual Life Association
X-ORIGINAL-URL:https://americanmutual.org
X-WR-CALDESC:Events for AMLA - American Mutual Life Association
BEGIN:VTIMEZONE
TZID:America/New_York
BEGIN:DAYLIGHT
TZOFFSETFROM:-0500
TZOFFSETTO:-0400
TZNAME:EDT
DTSTART:20250309T070000
END:DAYLIGHT
BEGIN:STANDARD
TZOFFSETFROM:-0400
TZOFFSETTO:-0500
TZNAME:EST
DTSTART:20251102T060000
END:STANDARD
END:VTIMEZONE
BEGIN:VEVENT
DTSTART;TZID=America/New_York:20250608T090000
DTEND;TZID=America/New_York:20250608T140000
DTSTAMP:20260421T183611
CREATED:20250417T130145Z
LAST-MODIFIED:20250523T191446Z
UID:3722-1749373200-1749391200@americanmutual.org
SUMMARY:AMLA 2025 Golf Scramble - NEW DAY & LOCATION
DESCRIPTION:AMLA Member Fee $75 (includes Green Fee & Dinner)\nNon-member Fee $85 (includes Green Fee & Dinner)\nEntry deadline EXTENDED: Friday\, May 30\nDOWNLOAD ENTRY FORM>>
URL:https://americanmutual.org/event/amla-2025-golf-scramble-new-day-location/
LOCATION:Briardale Golf Course\, 24131 Briardale Avenue\, Euclid\, OHIO
CATEGORIES:Event
ATTACH;FMTTYPE=image/jpeg:https://americanmutual.org/wp-content/uploads/2025/04/Golf-Scramble.jpg
END:VEVENT
END:VCALENDAR