BEGIN:VCALENDAR
VERSION:2.0
PRODID:-//AMLA - American Mutual Life Association - ECPv5.16.0//NONSGML v1.0//EN
CALSCALE:GREGORIAN
METHOD:PUBLISH
X-WR-CALNAME:AMLA - American Mutual Life Association
X-ORIGINAL-URL:https://americanmutual.org
X-WR-CALDESC:Events for AMLA - American Mutual Life Association
BEGIN:VTIMEZONE
TZID:America/New_York
BEGIN:DAYLIGHT
TZOFFSETFROM:-0500
TZOFFSETTO:-0400
TZNAME:EDT
DTSTART:20250309T070000
END:DAYLIGHT
BEGIN:STANDARD
TZOFFSETFROM:-0400
TZOFFSETTO:-0500
TZNAME:EST
DTSTART:20251102T060000
END:STANDARD
END:VTIMEZONE
BEGIN:VEVENT
DTSTART;TZID=America/New_York:20250816T120000
DTEND;TZID=America/New_York:20250816T180000
DTSTAMP:20260422T000516
CREATED:20250529T150521Z
LAST-MODIFIED:20250529T154309Z
UID:3761-1755345600-1755367200@americanmutual.org
SUMMARY:AMLA Family Picnic & Pool Party
DESCRIPTION:Come for the food\, water slides\, & fun\nfor the whole family!\nDownload Registration Form>>
URL:https://americanmutual.org/event/amla-family-picnic-pool-party-2/
LOCATION:Slovenska Pristava\, 1024 Brandt Road\, Harpersfield\, OH\, United States
CATEGORIES:Event,Picnic
ATTACH;FMTTYPE=image/jpeg:https://americanmutual.org/wp-content/uploads/2025/05/PoolParty2025.jpg
END:VEVENT
END:VCALENDAR