BEGIN:VCALENDAR
VERSION:2.0
PRODID:-//AMLA - American Mutual Life Association - ECPv5.16.0//NONSGML v1.0//EN
CALSCALE:GREGORIAN
METHOD:PUBLISH
X-WR-CALNAME:AMLA - American Mutual Life Association
X-ORIGINAL-URL:https://americanmutual.org
X-WR-CALDESC:Events for AMLA - American Mutual Life Association
BEGIN:VTIMEZONE
TZID:America/New_York
BEGIN:DAYLIGHT
TZOFFSETFROM:-0500
TZOFFSETTO:-0400
TZNAME:EDT
DTSTART:20240310T070000
END:DAYLIGHT
BEGIN:STANDARD
TZOFFSETFROM:-0400
TZOFFSETTO:-0500
TZNAME:EST
DTSTART:20241103T060000
END:STANDARD
END:VTIMEZONE
BEGIN:VEVENT
DTSTART;TZID=America/New_York:20240817T120000
DTEND;TZID=America/New_York:20240817T120000
DTSTAMP:20260419T173338
CREATED:20240423T121632Z
LAST-MODIFIED:20240423T125519Z
UID:3082-1723896000-1723896000@americanmutual.org
SUMMARY:AMLA Family Picnic & Pool Party
DESCRIPTION:View Registration Form>>
URL:https://americanmutual.org/event/amla-family-picnic-pool-party/
LOCATION:Slovenska Pristava\, 1024 Brandt Road\, Harpersfield\, OH\, United States
CATEGORIES:Event
ATTACH;FMTTYPE=image/jpeg:https://americanmutual.org/wp-content/uploads/2023/04/AMLAPoolParty.jpg
ORGANIZER;CN="AMLA":MAILTO:info@americanmutual.org
END:VEVENT
END:VCALENDAR