BEGIN:VCALENDAR
VERSION:2.0
PRODID:-//AMLA - American Mutual Life Association - ECPv5.16.0//NONSGML v1.0//EN
CALSCALE:GREGORIAN
METHOD:PUBLISH
X-WR-CALNAME:AMLA - American Mutual Life Association
X-ORIGINAL-URL:https://americanmutual.org
X-WR-CALDESC:Events for AMLA - American Mutual Life Association
BEGIN:VTIMEZONE
TZID:America/New_York
BEGIN:DAYLIGHT
TZOFFSETFROM:-0500
TZOFFSETTO:-0400
TZNAME:EDT
DTSTART:20200308T070000
END:DAYLIGHT
BEGIN:STANDARD
TZOFFSETFROM:-0400
TZOFFSETTO:-0500
TZNAME:EST
DTSTART:20201101T060000
END:STANDARD
END:VTIMEZONE
BEGIN:VEVENT
DTSTART;TZID=America/New_York:20200502T090000
DTEND;TZID=America/New_York:20200502T120000
DTSTAMP:20260423T000551
CREATED:20200427T145947Z
LAST-MODIFIED:20200427T145947Z
UID:2567-1588410000-1588420800@americanmutual.org
SUMMARY:AMLA "Join Hands Day" (Tenatively Scheduled)
DESCRIPTION:Each year\, AMLA Members and Friends gather to do some yard work at some Cleveland landmarks. Due to the Shelter in Place rules effecting society these days\, we are working on an alternative. Stay tuned!
URL:https://americanmutual.org/event/amla-join-hands-day-tenatively-scheduled/
END:VEVENT
END:VCALENDAR