BEGIN:VCALENDAR
VERSION:2.0
PRODID:-//AMLA - American Mutual Life Association - ECPv5.16.0//NONSGML v1.0//EN
CALSCALE:GREGORIAN
METHOD:PUBLISH
X-WR-CALNAME:AMLA - American Mutual Life Association
X-ORIGINAL-URL:https://americanmutual.org
X-WR-CALDESC:Events for AMLA - American Mutual Life Association
BEGIN:VTIMEZONE
TZID:America/New_York
BEGIN:DAYLIGHT
TZOFFSETFROM:-0500
TZOFFSETTO:-0400
TZNAME:EDT
DTSTART:20240310T070000
END:DAYLIGHT
BEGIN:STANDARD
TZOFFSETFROM:-0400
TZOFFSETTO:-0500
TZNAME:EST
DTSTART:20241103T060000
END:STANDARD
END:VTIMEZONE
BEGIN:VEVENT
DTSTART;TZID=America/New_York:20241214T183000
DTEND;TZID=America/New_York:20241214T203000
DTSTAMP:20260421T061738
CREATED:20241017T140337Z
LAST-MODIFIED:20241017T140337Z
UID:3619-1734201000-1734208200@americanmutual.org
SUMMARY:AMLA Lodge 22 - Funny Bus Tour of Cleveland
DESCRIPTION:
URL:https://americanmutual.org/event/amla-lodge-22-funny-bus-tour-of-cleveland/
LOCATION:Collision Bend Brewing\, 1250 Old River Rd\, Cleveland\, OH\, 44113
END:VEVENT
END:VCALENDAR