BEGIN:VCALENDAR
VERSION:2.0
PRODID:-//AMLA - American Mutual Life Association - ECPv5.16.0//NONSGML v1.0//EN
CALSCALE:GREGORIAN
METHOD:PUBLISH
X-WR-CALNAME:AMLA - American Mutual Life Association
X-ORIGINAL-URL:https://americanmutual.org
X-WR-CALDESC:Events for AMLA - American Mutual Life Association
BEGIN:VTIMEZONE
TZID:America/New_York
BEGIN:DAYLIGHT
TZOFFSETFROM:-0500
TZOFFSETTO:-0400
TZNAME:EDT
DTSTART:20200308T070000
END:DAYLIGHT
BEGIN:STANDARD
TZOFFSETFROM:-0400
TZOFFSETTO:-0500
TZNAME:EST
DTSTART:20201101T060000
END:STANDARD
END:VTIMEZONE
BEGIN:VEVENT
DTSTART;TZID=America/New_York:20201121T110000
DTEND;TZID=America/New_York:20201121T123000
DTSTAMP:20260421T080755
CREATED:20201022T152256Z
LAST-MODIFIED:20201022T152256Z
UID:2797-1605956400-1605961800@americanmutual.org
SUMMARY:AMLA Lodge 24 - Queen of Peace Annual Lodge Meeting
DESCRIPTION:McDonalds\, 2200 Snow Road\, Parma\, OH \nQuestions? Not sure which AMLA Lodge you are in? Call the AMLA Home Office at 216-531-1900 (M-F\, 8:30-5 EST) \n 
URL:https://americanmutual.org/event/amla-lodge-24-queen-of-peace-annual-lodge-meeting/
END:VEVENT
END:VCALENDAR