BEGIN:VCALENDAR
VERSION:2.0
PRODID:-//AMLA - American Mutual Life Association - ECPv5.16.0//NONSGML v1.0//EN
CALSCALE:GREGORIAN
METHOD:PUBLISH
X-WR-CALNAME:AMLA - American Mutual Life Association
X-ORIGINAL-URL:https://americanmutual.org
X-WR-CALDESC:Events for AMLA - American Mutual Life Association
BEGIN:VTIMEZONE
TZID:America/New_York
BEGIN:DAYLIGHT
TZOFFSETFROM:-0500
TZOFFSETTO:-0400
TZNAME:EDT
DTSTART:20260308T070000
END:DAYLIGHT
BEGIN:STANDARD
TZOFFSETFROM:-0400
TZOFFSETTO:-0500
TZNAME:EST
DTSTART:20261101T060000
END:STANDARD
END:VTIMEZONE
BEGIN:VEVENT
DTSTART;TZID=America/New_York:20260717T183000
DTEND;TZID=America/New_York:20260717T200000
DTSTAMP:20260423T014939
CREATED:20260415T193231Z
LAST-MODIFIED:20260415T193506Z
UID:3906-1784313000-1784318400@americanmutual.org
SUMMARY:AMLA Lodge 30 - Meeting to Elect Delegates
DESCRIPTION:The Meeting to Elect Delegates to the 31st AMLA Convention is an important part of the AMLA’s Governance process. All Lodge Members are encouraged to participate. This meeting is intended to current Lodge Members in good standing. Contact the AMLA Home Office for more information.
URL:https://americanmutual.org/event/amla-lodge-30-meeting-to-elect-delegates/
LOCATION:American Slovenian Club\, 617-1/2 Third St\, Fairport Harbor\, Ohio\, 44077
END:VEVENT
END:VCALENDAR