BEGIN:VCALENDAR
VERSION:2.0
PRODID:-//AMLA - American Mutual Life Association - ECPv5.16.0//NONSGML v1.0//EN
CALSCALE:GREGORIAN
METHOD:PUBLISH
X-WR-CALNAME:AMLA - American Mutual Life Association
X-ORIGINAL-URL:https://americanmutual.org
X-WR-CALDESC:Events for AMLA - American Mutual Life Association
BEGIN:VTIMEZONE
TZID:America/New_York
BEGIN:DAYLIGHT
TZOFFSETFROM:-0500
TZOFFSETTO:-0400
TZNAME:EDT
DTSTART:20260308T070000
END:DAYLIGHT
BEGIN:STANDARD
TZOFFSETFROM:-0400
TZOFFSETTO:-0500
TZNAME:EST
DTSTART:20261101T060000
END:STANDARD
END:VTIMEZONE
BEGIN:VEVENT
DTSTART;VALUE=DATE:20260613
DTEND;VALUE=DATE:20260614
DTSTAMP:20260422T222016
CREATED:20260406T163526Z
LAST-MODIFIED:20260408T130648Z
UID:3876-1781308800-1781395199@americanmutual.org
SUMMARY:AMLA Lodge 38 100th Anniversary Trip to the Zoo!
DESCRIPTION:
URL:https://americanmutual.org/event/amla-lodge-38-100th-anniversary-trip-to-the-zoo/
LOCATION:Cleveland Metroparks Zoo\, 3900 Wildlife Way\, Cleveland\, OH\, 44109\, United States
CATEGORIES:Event
END:VEVENT
END:VCALENDAR