BEGIN:VCALENDAR
VERSION:2.0
PRODID:-//AMLA - American Mutual Life Association - ECPv5.16.0//NONSGML v1.0//EN
CALSCALE:GREGORIAN
METHOD:PUBLISH
X-WR-CALNAME:AMLA - American Mutual Life Association
X-ORIGINAL-URL:https://americanmutual.org
X-WR-CALDESC:Events for AMLA - American Mutual Life Association
BEGIN:VTIMEZONE
TZID:America/New_York
BEGIN:DAYLIGHT
TZOFFSETFROM:-0500
TZOFFSETTO:-0400
TZNAME:EDT
DTSTART:20240310T070000
END:DAYLIGHT
BEGIN:STANDARD
TZOFFSETFROM:-0400
TZOFFSETTO:-0500
TZNAME:EST
DTSTART:20241103T060000
END:STANDARD
END:VTIMEZONE
BEGIN:VEVENT
DTSTART;TZID=America/New_York:20240719T191000
DTEND;TZID=America/New_York:20240719T220000
DTSTAMP:20260421T074613
CREATED:20240228T184021Z
LAST-MODIFIED:20240423T164221Z
UID:3468-1721416200-1721426400@americanmutual.org
SUMMARY:AMLA Lodge 40 Evening with the Cleveland Guardians
DESCRIPTION:DOWNLOAD FLYER>>\nTo purchase tickets for this event\, use the buttons below (Limit of 4 tickets per purchase)\, or contact the AMLA Home Office to purchase more.
URL:https://americanmutual.org/event/amla-lodge-40-evening-with-the-cleveland-guardians/
LOCATION:Progressive Fieild\, 2401 Ontario St\, Cleveland\, Ohio\, 44115
CATEGORIES:Event
ATTACH;FMTTYPE=image/jpeg:https://americanmutual.org/wp-content/uploads/2024/02/ball-game-1.jpg
END:VEVENT
END:VCALENDAR