BEGIN:VCALENDAR
VERSION:2.0
PRODID:-//AMLA - American Mutual Life Association - ECPv5.16.0//NONSGML v1.0//EN
CALSCALE:GREGORIAN
METHOD:PUBLISH
X-WR-CALNAME:AMLA - American Mutual Life Association
X-ORIGINAL-URL:https://americanmutual.org
X-WR-CALDESC:Events for AMLA - American Mutual Life Association
BEGIN:VTIMEZONE
TZID:America/New_York
BEGIN:DAYLIGHT
TZOFFSETFROM:-0500
TZOFFSETTO:-0400
TZNAME:EDT
DTSTART:20200308T070000
END:DAYLIGHT
BEGIN:STANDARD
TZOFFSETFROM:-0400
TZOFFSETTO:-0500
TZNAME:EST
DTSTART:20201101T060000
END:STANDARD
END:VTIMEZONE
BEGIN:VEVENT
DTSTART;TZID=America/New_York:20201115T113000
DTEND;TZID=America/New_York:20201115T130000
DTSTAMP:20260421T171614
CREATED:20201022T153443Z
LAST-MODIFIED:20201112T190416Z
UID:2809-1605439800-1605445200@americanmutual.org
SUMMARY:AMLA Lodge 45 - Modern Crusaders Annual Lodge Meeting
DESCRIPTION:Zoom meeting: E-mail: Crusaders.AMLA@yahoo.com for link \nQuestions? Not sure which AMLA Lodge you are in? Call the AMLA Home Office at 216-531-1900 (M-F\, 8:30-5 EST)
URL:https://americanmutual.org/event/amla-lodge-45-modern-crusaders-annual-lodge-meeting/
END:VEVENT
END:VCALENDAR