BEGIN:VCALENDAR
VERSION:2.0
PRODID:-//AMLA - American Mutual Life Association - ECPv5.16.0//NONSGML v1.0//EN
CALSCALE:GREGORIAN
METHOD:PUBLISH
X-WR-CALNAME:AMLA - American Mutual Life Association
X-ORIGINAL-URL:https://americanmutual.org
X-WR-CALDESC:Events for AMLA - American Mutual Life Association
BEGIN:VTIMEZONE
TZID:America/New_York
BEGIN:DAYLIGHT
TZOFFSETFROM:-0500
TZOFFSETTO:-0400
TZNAME:EDT
DTSTART:20240310T070000
END:DAYLIGHT
BEGIN:STANDARD
TZOFFSETFROM:-0400
TZOFFSETTO:-0500
TZNAME:EST
DTSTART:20241103T060000
END:STANDARD
END:VTIMEZONE
BEGIN:VEVENT
DTSTART;TZID=America/New_York:20240628T190000
DTEND;TZID=America/New_York:20240628T220000
DTSTAMP:20260421T100705
CREATED:20240422T184719Z
LAST-MODIFIED:20240604T181112Z
UID:3493-1719601200-1719612000@americanmutual.org
SUMMARY:AMLA Lodge 59 - Night w/ Captains Baseball
DESCRIPTION:Download Informational Flyer>>
URL:https://americanmutual.org/event/amla-lodge-59-night-w-captains-baseball/
LOCATION:Classic Park 35300 Vine Street Eastlake\, OH\, 35300 Vine Street\, Eastlake\, Ohio
ATTACH;FMTTYPE=image/jpeg:https://americanmutual.org/wp-content/uploads/2024/04/baseball.jpg
END:VEVENT
END:VCALENDAR