BEGIN:VCALENDAR
VERSION:2.0
PRODID:-//AMLA - American Mutual Life Association - ECPv5.16.0//NONSGML v1.0//EN
CALSCALE:GREGORIAN
METHOD:PUBLISH
X-WR-CALNAME:AMLA - American Mutual Life Association
X-ORIGINAL-URL:https://americanmutual.org
X-WR-CALDESC:Events for AMLA - American Mutual Life Association
BEGIN:VTIMEZONE
TZID:America/New_York
BEGIN:DAYLIGHT
TZOFFSETFROM:-0500
TZOFFSETTO:-0400
TZNAME:EDT
DTSTART:20250309T070000
END:DAYLIGHT
BEGIN:STANDARD
TZOFFSETFROM:-0400
TZOFFSETTO:-0500
TZNAME:EST
DTSTART:20251102T060000
END:STANDARD
END:VTIMEZONE
BEGIN:VEVENT
DTSTART;TZID=America/New_York:20250725T190000
DTEND;TZID=America/New_York:20250725T213000
DTSTAMP:20260421T221658
CREATED:20250409T165117Z
LAST-MODIFIED:20250409T171521Z
UID:3707-1753470000-1753479000@americanmutual.org
SUMMARY:Captains Baseball Game with AMLA Lodge 59
DESCRIPTION:Click Here>> to view the flyer!
URL:https://americanmutual.org/event/captains-baseball-game-with-amla-lodge-59/
LOCATION:Classic Park 35300 Vine Street Eastlake\, OH\, 35300 Vine Street\, Eastlake\, Ohio
CATEGORIES:Event
END:VEVENT
END:VCALENDAR