BEGIN:VCALENDAR
VERSION:2.0
PRODID:-//AMLA - American Mutual Life Association - ECPv5.16.0//NONSGML v1.0//EN
CALSCALE:GREGORIAN
METHOD:PUBLISH
X-WR-CALNAME:AMLA - American Mutual Life Association
X-ORIGINAL-URL:https://americanmutual.org
X-WR-CALDESC:Events for AMLA - American Mutual Life Association
BEGIN:VTIMEZONE
TZID:America/New_York
BEGIN:DAYLIGHT
TZOFFSETFROM:-0500
TZOFFSETTO:-0400
TZNAME:EDT
DTSTART:20240310T070000
END:DAYLIGHT
BEGIN:STANDARD
TZOFFSETFROM:-0400
TZOFFSETTO:-0500
TZNAME:EST
DTSTART:20241103T060000
END:STANDARD
END:VTIMEZONE
BEGIN:VEVENT
DTSTART;TZID=America/New_York:20240210T100000
DTEND;TZID=America/New_York:20240210T170000
DTSTAMP:20260421T063918
CREATED:20240130T182124Z
LAST-MODIFIED:20240220T211645Z
UID:3257-1707559200-1707584400@americanmutual.org
SUMMARY:CLE-Kurentovanje: 12th Annual Cleveland Kurentovanje Main Festival and Parade
DESCRIPTION:Saturday\, February 10\, 2024\n10:00 AM  5:00 PM\nCleveland Kurentovanje at Slovenian National Home (map)\n\n\nAll things Cleveland Kurentovanje Festival 2024! In Person. Free. \nClick for Event Details →
URL:https://americanmutual.org/event/cle-kurentovanje/
CATEGORIES:Event
ATTACH;FMTTYPE=image/jpeg:https://americanmutual.org/wp-content/uploads/2023/01/CLEKurentovanje_13-parade.jpeg
END:VEVENT
END:VCALENDAR