BEGIN:VCALENDAR
VERSION:2.0
PRODID:-//AMLA - American Mutual Life Association - ECPv5.16.0//NONSGML v1.0//EN
CALSCALE:GREGORIAN
METHOD:PUBLISH
X-WR-CALNAME:AMLA - American Mutual Life Association
X-ORIGINAL-URL:https://americanmutual.org
X-WR-CALDESC:Events for AMLA - American Mutual Life Association
BEGIN:VTIMEZONE
TZID:America/New_York
BEGIN:DAYLIGHT
TZOFFSETFROM:-0500
TZOFFSETTO:-0400
TZNAME:EDT
DTSTART:20230312T070000
END:DAYLIGHT
BEGIN:STANDARD
TZOFFSETFROM:-0400
TZOFFSETTO:-0500
TZNAME:EST
DTSTART:20231105T060000
END:STANDARD
END:VTIMEZONE
BEGIN:VEVENT
DTSTART;VALUE=DATE:20231103
DTEND;VALUE=DATE:20231104
DTSTAMP:20260421T100202
CREATED:20231025T191505Z
LAST-MODIFIED:20231025T191505Z
UID:3407-1698969600-1699055999@americanmutual.org
SUMMARY:DEADLINE For Tickets: Lodge 45 - CLE Pops Concert - "Holiday Cheer!"
DESCRIPTION:For information and ticket prices:\nDOWNLOAD FLYER>>\nPlease make your order by November 3
URL:https://americanmutual.org/event/deadline-for-tickets-lodge-45-cle-pops-concert-holiday-cheer/
END:VEVENT
END:VCALENDAR