BEGIN:VCALENDAR
VERSION:2.0
PRODID:-//AMLA - American Mutual Life Association - ECPv5.16.0//NONSGML v1.0//EN
CALSCALE:GREGORIAN
METHOD:PUBLISH
X-WR-CALNAME:AMLA - American Mutual Life Association
X-ORIGINAL-URL:https://americanmutual.org
X-WR-CALDESC:Events for AMLA - American Mutual Life Association
BEGIN:VTIMEZONE
TZID:America/New_York
BEGIN:DAYLIGHT
TZOFFSETFROM:-0500
TZOFFSETTO:-0400
TZNAME:EDT
DTSTART:20250309T070000
END:DAYLIGHT
BEGIN:STANDARD
TZOFFSETFROM:-0400
TZOFFSETTO:-0500
TZNAME:EST
DTSTART:20251102T060000
END:STANDARD
END:VTIMEZONE
BEGIN:VEVENT
DTSTART;TZID=America/New_York:20250517T100000
DTEND;TZID=America/New_York:20250517T170000
DTSTAMP:20260421T164302
CREATED:20250502T174723Z
LAST-MODIFIED:20250502T180043Z
UID:3753-1747476000-1747501200@americanmutual.org
SUMMARY:JOIN HANDS DAY (RESCHEDULED)
DESCRIPTION:DUE TO RAIN\, THIS EVENT HAS BEEN RESCHEDULED TO MAY 17th AT 10:00AM\nHelp us spread joy through planted flowers for the residents and their families of the Slovene Home Skilled Care & Rehabilitation. For decades\, the Slovene Home has provided specialized care for AMLA Members and the greater community. As a token of appreciation\, AMLA Volunteers come annually to clean\, plant in\, and decorate these beautiful courtyards for the residents and their families. \nCLICK HERE>> to view the flyer for this event!
URL:https://americanmutual.org/event/join-hands-day-rescheduled/
LOCATION:Slovene Home\, 18621 Neff Road\, Cleveland\, OH\, 44119
CATEGORIES:Event
ATTACH;FMTTYPE=image/jpeg:https://americanmutual.org/wp-content/uploads/2025/04/Join-HANDS-DAY.jpg
END:VEVENT
END:VCALENDAR