BEGIN:VCALENDAR
VERSION:2.0
PRODID:-//AMLA - American Mutual Life Association - ECPv5.16.0//NONSGML v1.0//EN
CALSCALE:GREGORIAN
METHOD:PUBLISH
X-WR-CALNAME:AMLA - American Mutual Life Association
X-ORIGINAL-URL:https://americanmutual.org
X-WR-CALDESC:Events for AMLA - American Mutual Life Association
BEGIN:VTIMEZONE
TZID:America/New_York
BEGIN:DAYLIGHT
TZOFFSETFROM:-0500
TZOFFSETTO:-0400
TZNAME:EDT
DTSTART:20200308T070000
END:DAYLIGHT
BEGIN:STANDARD
TZOFFSETFROM:-0400
TZOFFSETTO:-0500
TZNAME:EST
DTSTART:20201101T060000
END:STANDARD
END:VTIMEZONE
BEGIN:VEVENT
DTSTART;TZID=America/New_York:20200926T160000
DTEND;TZID=America/New_York:20200926T180000
DTSTAMP:20260422T072941
CREATED:20200730T174854Z
LAST-MODIFIED:20200730T175121Z
UID:2716-1601136000-1601143200@americanmutual.org
SUMMARY:Virtual Planetarium - Exploring the Night Sky
DESCRIPTION:Who has not been in awe of the night sky at least once? This is YOUR CHANCE to directly ask a park ranger all about that gorgeous vastness! Learn all about sky maps so that you can identify what you are seeing above you. \nDid you know?\n\nGeauga County is home to one of only 39 certified “dark spots” for night sky viewing in the whole US.\nThe Nassau Astronomical Station was sold to the county park district in 2008.\nYou probably already have a sky map on your computer\, tablet\, or phone. Learn how to use it!\n\n<<Register Here>> \nPRESENTER: Chris Mentrek\, Observatory Ranger\, at Geauga County Observatory Park has agreed to give a presentation of this fabulous night sky just for AMLA members – NO trip to a remote park in the dark required! And no worrying about weather conditions!
URL:https://americanmutual.org/event/virtual-planetarium-exploring-the-night-sky/
CATEGORIES:Event
ATTACH;FMTTYPE=image/jpeg:https://americanmutual.org/wp-content/uploads/2020/07/Planetarium.jpg
END:VEVENT
END:VCALENDAR