BEGIN:VCALENDAR
VERSION:2.0
PRODID:-//AMLA - American Mutual Life Association - ECPv5.16.0//NONSGML v1.0//EN
CALSCALE:GREGORIAN
METHOD:PUBLISH
X-WR-CALNAME:AMLA - American Mutual Life Association
X-ORIGINAL-URL:https://americanmutual.org
X-WR-CALDESC:Events for AMLA - American Mutual Life Association
BEGIN:VTIMEZONE
TZID:America/New_York
BEGIN:DAYLIGHT
TZOFFSETFROM:-0500
TZOFFSETTO:-0400
TZNAME:EDT
DTSTART:20240310T070000
END:DAYLIGHT
BEGIN:STANDARD
TZOFFSETFROM:-0400
TZOFFSETTO:-0500
TZNAME:EST
DTSTART:20241103T060000
END:STANDARD
END:VTIMEZONE
BEGIN:VEVENT
DTSTART;TZID=America/New_York:20240518T100000
DTEND;TZID=America/New_York:20240518T160000
DTSTAMP:20260421T083127
CREATED:20240219T203733Z
LAST-MODIFIED:20240423T161655Z
UID:3447-1716026400-1716048000@americanmutual.org
SUMMARY:WORLD BEE DAY Fun Day! - Sponsored by AMLA
DESCRIPTION:
URL:https://americanmutual.org/event/world-bee-day-fun-day-sponsored-by-amla/
ATTACH;FMTTYPE=image/jpeg:https://americanmutual.org/wp-content/uploads/2024/02/WorldBeeDay.jpg
END:VEVENT
END:VCALENDAR